BEGIN:VCALENDAR
VERSION:2.0
PRODID:-//Yellowknife Curling Club - ECPv6.15.20//NONSGML v1.0//EN
CALSCALE:GREGORIAN
METHOD:PUBLISH
X-WR-CALNAME:Yellowknife Curling Club
X-ORIGINAL-URL:https://yellowknifecurling.com
X-WR-CALDESC:Events for Yellowknife Curling Club
REFRESH-INTERVAL;VALUE=DURATION:PT1H
X-Robots-Tag:noindex
X-PUBLISHED-TTL:PT1H
BEGIN:VTIMEZONE
TZID:America/Yellowknife
BEGIN:DAYLIGHT
TZOFFSETFROM:-0700
TZOFFSETTO:-0600
TZNAME:MDT
DTSTART:20240310T090000
END:DAYLIGHT
BEGIN:STANDARD
TZOFFSETFROM:-0600
TZOFFSETTO:-0700
TZNAME:MST
DTSTART:20241103T080000
END:STANDARD
BEGIN:DAYLIGHT
TZOFFSETFROM:-0700
TZOFFSETTO:-0600
TZNAME:MDT
DTSTART:20250309T090000
END:DAYLIGHT
BEGIN:STANDARD
TZOFFSETFROM:-0600
TZOFFSETTO:-0700
TZNAME:MST
DTSTART:20251102T080000
END:STANDARD
BEGIN:DAYLIGHT
TZOFFSETFROM:-0700
TZOFFSETTO:-0600
TZNAME:MDT
DTSTART:20260308T090000
END:DAYLIGHT
BEGIN:STANDARD
TZOFFSETFROM:-0600
TZOFFSETTO:-0700
TZNAME:MST
DTSTART:20261101T080000
END:STANDARD
BEGIN:DAYLIGHT
TZOFFSETFROM:-0700
TZOFFSETTO:-0600
TZNAME:MDT
DTSTART:20270314T090000
END:DAYLIGHT
BEGIN:STANDARD
TZOFFSETFROM:-0600
TZOFFSETTO:-0700
TZNAME:MST
DTSTART:20271107T080000
END:STANDARD
END:VTIMEZONE
BEGIN:VEVENT
DTSTART;TZID=America/Yellowknife:20251201T193000
DTEND;TZID=America/Yellowknife:20251201T213000
DTSTAMP:20260425T051208
CREATED:20250907T155159Z
LAST-MODIFIED:20250907T155159Z
UID:2900-1764617400-1764624600@yellowknifecurling.com
SUMMARY:Ladies Nights!
DESCRIPTION:
URL:https://yellowknifecurling.com/event/ladies-nights/
END:VEVENT
BEGIN:VEVENT
DTSTART;TZID=America/Yellowknife:20251204T190000
DTEND;TZID=America/Yellowknife:20251204T203000
DTSTAMP:20260425T051208
CREATED:20250719T175327Z
LAST-MODIFIED:20250719T175327Z
UID:2813-1764874800-1764880200@yellowknifecurling.com
SUMMARY:Beginner Learn to Curl
DESCRIPTION:
URL:https://yellowknifecurling.com/event/beginner-learn-to-curl-3/
END:VEVENT
BEGIN:VEVENT
DTSTART;VALUE=DATE:20251206
DTEND;VALUE=DATE:20251207
DTSTAMP:20260425T051208
CREATED:20250719T175355Z
LAST-MODIFIED:20250719T175355Z
UID:2815-1764979200-1765065599@yellowknifecurling.com
SUMMARY:Get Active Seniors Curling
DESCRIPTION:
URL:https://yellowknifecurling.com/event/get-active-seniors-curling/
END:VEVENT
BEGIN:VEVENT
DTSTART;TZID=America/Yellowknife:20251211T190000
DTEND;TZID=America/Yellowknife:20251211T203000
DTSTAMP:20260425T051208
CREATED:20250719T175438Z
LAST-MODIFIED:20250719T175438Z
UID:2817-1765479600-1765485000@yellowknifecurling.com
SUMMARY:Beginner Learn to Curl
DESCRIPTION:
URL:https://yellowknifecurling.com/event/beginner-learn-to-curl-4/
END:VEVENT
BEGIN:VEVENT
DTSTART;VALUE=DATE:20251212
DTEND;VALUE=DATE:20251214
DTSTAMP:20260425T051208
CREATED:20250719T175555Z
LAST-MODIFIED:20251205T173300Z
UID:2819-1765497600-1765670399@yellowknifecurling.com
SUMMARY:NWTCA Master's Championship
DESCRIPTION:
URL:https://yellowknifecurling.com/event/nwtca-masters-championship/
END:VEVENT
BEGIN:VEVENT
DTSTART;TZID=America/Yellowknife:20251212T093000
DTEND;TZID=America/Yellowknife:20251212T170000
DTSTAMP:20260425T051208
CREATED:20250719T175639Z
LAST-MODIFIED:20251205T173516Z
UID:2821-1765531800-1765558800@yellowknifecurling.com
SUMMARY:Assistant Ice Tech Course
DESCRIPTION:
URL:https://yellowknifecurling.com/event/free-assistant-ice-tech-course-with-matt-yeo/
END:VEVENT
BEGIN:VEVENT
DTSTART;TZID=America/Yellowknife:20251214T080000
DTEND;TZID=America/Yellowknife:20251214T160000
DTSTAMP:20260425T051208
CREATED:20251205T173438Z
LAST-MODIFIED:20251205T173438Z
UID:3015-1765699200-1765728000@yellowknifecurling.com
SUMMARY:Assistant Ice Tech Course
DESCRIPTION:
URL:https://yellowknifecurling.com/event/assistant-ice-tech-course/
END:VEVENT
BEGIN:VEVENT
DTSTART;TZID=America/Yellowknife:20251219T130000
DTEND;TZID=America/Yellowknife:20251219T160000
DTSTAMP:20260425T051208
CREATED:20251205T173656Z
LAST-MODIFIED:20251205T173656Z
UID:3017-1766149200-1766160000@yellowknifecurling.com
SUMMARY:Private Rental
DESCRIPTION:
URL:https://yellowknifecurling.com/event/private-rental-23/
END:VEVENT
BEGIN:VEVENT
DTSTART;TZID=America/Yellowknife:20251222T080000
DTEND;TZID=America/Yellowknife:20251226T170000
DTSTAMP:20260425T051208
CREATED:20250719T175900Z
LAST-MODIFIED:20250719T175935Z
UID:2823-1766390400-1766768400@yellowknifecurling.com
SUMMARY:Christmas Break - No League Curling
DESCRIPTION:
URL:https://yellowknifecurling.com/event/christmas-break-no-curling/
END:VEVENT
BEGIN:VEVENT
DTSTART;VALUE=DATE:20251226
DTEND;VALUE=DATE:20251227
DTSTAMP:20260425T051208
CREATED:20251222T020404Z
LAST-MODIFIED:20251222T020438Z
UID:3034-1766707200-1766793599@yellowknifecurling.com
SUMMARY:Boxing Day Bonspiel
DESCRIPTION:
URL:https://yellowknifecurling.com/event/boxing-day-bonspiel-4/
END:VEVENT
BEGIN:VEVENT
DTSTART;TZID=America/Yellowknife:20251229T080000
DTEND;TZID=America/Yellowknife:20260102T170000
DTSTAMP:20260425T051208
CREATED:20250719T180006Z
LAST-MODIFIED:20250719T180006Z
UID:2826-1766995200-1767373200@yellowknifecurling.com
SUMMARY:Christmas Break - No League Curling
DESCRIPTION:
URL:https://yellowknifecurling.com/event/christmas-break-no-league-curling/
END:VEVENT
BEGIN:VEVENT
DTSTART;TZID=America/Yellowknife:20251231T163000
DTEND;TZID=America/Yellowknife:20251231T233000
DTSTAMP:20260425T051208
CREATED:20251205T174451Z
LAST-MODIFIED:20251205T174451Z
UID:3023-1767198600-1767223800@yellowknifecurling.com
SUMMARY:Private Rental
DESCRIPTION:
URL:https://yellowknifecurling.com/event/private-rental-25/
END:VEVENT
END:VCALENDAR