BEGIN:VCALENDAR
VERSION:2.0
PRODID:-//Yellowknife Curling Club - ECPv6.15.20//NONSGML v1.0//EN
CALSCALE:GREGORIAN
METHOD:PUBLISH
X-ORIGINAL-URL:https://yellowknifecurling.com
X-WR-CALDESC:Events for Yellowknife Curling Club
REFRESH-INTERVAL;VALUE=DURATION:PT1H
X-Robots-Tag:noindex
X-PUBLISHED-TTL:PT1H
BEGIN:VTIMEZONE
TZID:America/Yellowknife
BEGIN:DAYLIGHT
TZOFFSETFROM:-0700
TZOFFSETTO:-0600
TZNAME:MDT
DTSTART:20240310T090000
END:DAYLIGHT
BEGIN:STANDARD
TZOFFSETFROM:-0600
TZOFFSETTO:-0700
TZNAME:MST
DTSTART:20241103T080000
END:STANDARD
BEGIN:DAYLIGHT
TZOFFSETFROM:-0700
TZOFFSETTO:-0600
TZNAME:MDT
DTSTART:20250309T090000
END:DAYLIGHT
BEGIN:STANDARD
TZOFFSETFROM:-0600
TZOFFSETTO:-0700
TZNAME:MST
DTSTART:20251102T080000
END:STANDARD
BEGIN:DAYLIGHT
TZOFFSETFROM:-0700
TZOFFSETTO:-0600
TZNAME:MDT
DTSTART:20260308T090000
END:DAYLIGHT
BEGIN:STANDARD
TZOFFSETFROM:-0600
TZOFFSETTO:-0700
TZNAME:MST
DTSTART:20261101T080000
END:STANDARD
END:VTIMEZONE
BEGIN:VEVENT
DTSTART;TZID=America/Yellowknife:20251103T170000
DTEND;TZID=America/Yellowknife:20251103T190000
DTSTAMP:20260425T052023
CREATED:20250719T174241Z
LAST-MODIFIED:20250719T174241Z
UID:2800-1762189200-1762196400@yellowknifecurling.com
SUMMARY:First Day of Junior Curling
DESCRIPTION:
URL:https://yellowknifecurling.com/event/first-day-of-junior-curling/
END:VEVENT
BEGIN:VEVENT
DTSTART;TZID=America/Yellowknife:20251103T193000
DTEND;TZID=America/Yellowknife:20251103T213000
DTSTAMP:20260425T052023
CREATED:20250907T155125Z
LAST-MODIFIED:20250907T155125Z
UID:2898-1762198200-1762205400@yellowknifecurling.com
SUMMARY:Ladies Night!
DESCRIPTION:
URL:https://yellowknifecurling.com/event/ladies-night/
END:VEVENT
BEGIN:VEVENT
DTSTART;TZID=America/Yellowknife:20251106T190000
DTEND;TZID=America/Yellowknife:20251106T203000
DTSTAMP:20260425T052023
CREATED:20250719T174326Z
LAST-MODIFIED:20250719T174326Z
UID:2802-1762455600-1762461000@yellowknifecurling.com
SUMMARY:Beginner Learn to Curl
DESCRIPTION:
URL:https://yellowknifecurling.com/event/beginner-learn-to-curl/
END:VEVENT
BEGIN:VEVENT
DTSTART;TZID=America/Yellowknife:20251113T190000
DTEND;TZID=America/Yellowknife:20251113T203000
DTSTAMP:20260425T052023
CREATED:20250719T174403Z
LAST-MODIFIED:20250719T174403Z
UID:2804-1763060400-1763065800@yellowknifecurling.com
SUMMARY:Beginner Learn to Curl
DESCRIPTION:
URL:https://yellowknifecurling.com/event/beginner-learn-to-curl-2/
END:VEVENT
BEGIN:VEVENT
DTSTART;TZID=America/Yellowknife:20251120T190000
DTEND;TZID=America/Yellowknife:20251120T203000
DTSTAMP:20260425T052023
CREATED:20250719T174557Z
LAST-MODIFIED:20250719T174557Z
UID:2807-1763665200-1763670600@yellowknifecurling.com
SUMMARY:Sponsor Curling Night
DESCRIPTION:
URL:https://yellowknifecurling.com/event/sponsor-curling-night/
END:VEVENT
BEGIN:VEVENT
DTSTART;TZID=America/Yellowknife:20251127T190000
DTEND;TZID=America/Yellowknife:20251127T203000
DTSTAMP:20260425T052023
CREATED:20250719T174637Z
LAST-MODIFIED:20250719T174637Z
UID:2809-1764270000-1764275400@yellowknifecurling.com
SUMMARY:Beginner Learn to Curl Start
DESCRIPTION:
URL:https://yellowknifecurling.com/event/beginner-learn-to-curl-start-2/
END:VEVENT
END:VCALENDAR