BEGIN:VCALENDAR
VERSION:2.0
PRODID:-//Yellowknife Curling Club - ECPv6.15.20//NONSGML v1.0//EN
CALSCALE:GREGORIAN
METHOD:PUBLISH
X-ORIGINAL-URL:https://yellowknifecurling.com
X-WR-CALDESC:Events for Yellowknife Curling Club
REFRESH-INTERVAL;VALUE=DURATION:PT1H
X-Robots-Tag:noindex
X-PUBLISHED-TTL:PT1H
BEGIN:VTIMEZONE
TZID:America/Yellowknife
BEGIN:DAYLIGHT
TZOFFSETFROM:-0700
TZOFFSETTO:-0600
TZNAME:MDT
DTSTART:20240310T090000
END:DAYLIGHT
BEGIN:STANDARD
TZOFFSETFROM:-0600
TZOFFSETTO:-0700
TZNAME:MST
DTSTART:20241103T080000
END:STANDARD
BEGIN:DAYLIGHT
TZOFFSETFROM:-0700
TZOFFSETTO:-0600
TZNAME:MDT
DTSTART:20250309T090000
END:DAYLIGHT
BEGIN:STANDARD
TZOFFSETFROM:-0600
TZOFFSETTO:-0700
TZNAME:MST
DTSTART:20251102T080000
END:STANDARD
BEGIN:DAYLIGHT
TZOFFSETFROM:-0700
TZOFFSETTO:-0600
TZNAME:MDT
DTSTART:20260308T090000
END:DAYLIGHT
BEGIN:STANDARD
TZOFFSETFROM:-0600
TZOFFSETTO:-0700
TZNAME:MST
DTSTART:20261101T080000
END:STANDARD
END:VTIMEZONE
BEGIN:VEVENT
DTSTART;TZID=America/Yellowknife:20251002T190000
DTEND;TZID=America/Yellowknife:20251002T200000
DTSTAMP:20260425T065542
CREATED:20250719T173402Z
LAST-MODIFIED:20250719T173402Z
UID:2785-1759431600-1759435200@yellowknifecurling.com
SUMMARY:Annual General Meeting
DESCRIPTION:
URL:https://yellowknifecurling.com/event/annual-general-meeting/
END:VEVENT
BEGIN:VEVENT
DTSTART;VALUE=DATE:20251013
DTEND;VALUE=DATE:20251014
DTSTAMP:20260425T065542
CREATED:20250904T004557Z
LAST-MODIFIED:20250904T004557Z
UID:2884-1760313600-1760399999@yellowknifecurling.com
SUMMARY:THANKSGIVING
DESCRIPTION:
URL:https://yellowknifecurling.com/event/thanksgiving-2/
END:VEVENT
BEGIN:VEVENT
DTSTART;TZID=America/Yellowknife:20251014T193000
DTEND;TZID=America/Yellowknife:20251014T193000
DTSTAMP:20260425T065542
CREATED:20250904T004626Z
LAST-MODIFIED:20250904T004710Z
UID:2886-1760470200-1760470200@yellowknifecurling.com
SUMMARY:First Day of League Curling
DESCRIPTION:
URL:https://yellowknifecurling.com/event/first-day-of-league-curling/
END:VEVENT
BEGIN:VEVENT
DTSTART;TZID=America/Yellowknife:20251018T130000
DTEND;TZID=America/Yellowknife:20251018T150000
DTSTAMP:20260425T065542
CREATED:20250719T173512Z
LAST-MODIFIED:20250719T173529Z
UID:2787-1760792400-1760799600@yellowknifecurling.com
SUMMARY:FREE Kids Try Curling
DESCRIPTION:
URL:https://yellowknifecurling.com/event/free-kids-try-curling/
END:VEVENT
BEGIN:VEVENT
DTSTART;TZID=America/Yellowknife:20251020T130000
DTEND;TZID=America/Yellowknife:20251020T160000
DTSTAMP:20260425T065542
CREATED:20250904T004758Z
LAST-MODIFIED:20250904T004758Z
UID:2888-1760965200-1760976000@yellowknifecurling.com
SUMMARY:First Day of Senior Curling
DESCRIPTION:
URL:https://yellowknifecurling.com/event/first-day-of-senior-curling/
END:VEVENT
BEGIN:VEVENT
DTSTART;TZID=America/Yellowknife:20251022T180000
DTEND;TZID=America/Yellowknife:20251022T190000
DTSTAMP:20260425T065542
CREATED:20250719T173704Z
LAST-MODIFIED:20250719T173704Z
UID:2789-1761156000-1761159600@yellowknifecurling.com
SUMMARY:FREE All Ages Try Curling
DESCRIPTION:
URL:https://yellowknifecurling.com/event/free-all-ages-try-curling/
END:VEVENT
BEGIN:VEVENT
DTSTART;TZID=America/Yellowknife:20251023T190000
DTEND;TZID=America/Yellowknife:20251023T203000
DTSTAMP:20260425T065542
CREATED:20250719T173914Z
LAST-MODIFIED:20250719T173914Z
UID:2791-1761246000-1761251400@yellowknifecurling.com
SUMMARY:FREE Adults Only Try Curling
DESCRIPTION:
URL:https://yellowknifecurling.com/event/free-adults-only-try-curling/
END:VEVENT
BEGIN:VEVENT
DTSTART;TZID=America/Yellowknife:20251024T180000
DTEND;TZID=America/Yellowknife:20251024T190000
DTSTAMP:20260425T065542
CREATED:20250719T173955Z
LAST-MODIFIED:20250719T173955Z
UID:2793-1761328800-1761332400@yellowknifecurling.com
SUMMARY:FREE Friday League Curling Lesson
DESCRIPTION:
URL:https://yellowknifecurling.com/event/free-friday-league-curling-lesson/
END:VEVENT
BEGIN:VEVENT
DTSTART;TZID=America/Yellowknife:20251030T190000
DTEND;TZID=America/Yellowknife:20251030T203000
DTSTAMP:20260425T065542
CREATED:20250719T174147Z
LAST-MODIFIED:20250719T174147Z
UID:2798-1761850800-1761856200@yellowknifecurling.com
SUMMARY:Beginner Learn to Curl Start
DESCRIPTION:
URL:https://yellowknifecurling.com/event/beginner-learn-to-curl-start/
END:VEVENT
END:VCALENDAR