BEGIN:VCALENDAR
VERSION:2.0
PRODID:-//Yellowknife Curling Club - ECPv6.15.20//NONSGML v1.0//EN
CALSCALE:GREGORIAN
METHOD:PUBLISH
X-ORIGINAL-URL:https://yellowknifecurling.com
X-WR-CALDESC:Events for Yellowknife Curling Club
REFRESH-INTERVAL;VALUE=DURATION:PT1H
X-Robots-Tag:noindex
X-PUBLISHED-TTL:PT1H
BEGIN:VTIMEZONE
TZID:America/Yellowknife
BEGIN:DAYLIGHT
TZOFFSETFROM:-0700
TZOFFSETTO:-0600
TZNAME:MDT
DTSTART:20210314T090000
END:DAYLIGHT
BEGIN:STANDARD
TZOFFSETFROM:-0600
TZOFFSETTO:-0700
TZNAME:MST
DTSTART:20211107T080000
END:STANDARD
BEGIN:DAYLIGHT
TZOFFSETFROM:-0700
TZOFFSETTO:-0600
TZNAME:MDT
DTSTART:20220313T090000
END:DAYLIGHT
BEGIN:STANDARD
TZOFFSETFROM:-0600
TZOFFSETTO:-0700
TZNAME:MST
DTSTART:20221106T080000
END:STANDARD
BEGIN:DAYLIGHT
TZOFFSETFROM:-0700
TZOFFSETTO:-0600
TZNAME:MDT
DTSTART:20230312T090000
END:DAYLIGHT
BEGIN:STANDARD
TZOFFSETFROM:-0600
TZOFFSETTO:-0700
TZNAME:MST
DTSTART:20231105T080000
END:STANDARD
END:VTIMEZONE
BEGIN:VEVENT
DTSTART;VALUE=DATE:20220104
DTEND;VALUE=DATE:20220131
DTSTAMP:20260421T040929
CREATED:20220119T184946Z
LAST-MODIFIED:20220119T184946Z
UID:1344-1641254400-1643587199@yellowknifecurling.com
SUMMARY:League Temporarily Suspended
DESCRIPTION:January 18th\, 2022 a new Public Health Order was issued extending the current restrictions until January 30th 2022 at 5pm. To read the full public health order the link can be found here:  https://www.gov.nt.ca/covid-19/sites/covid/files/resources/final_temporary_partial_suspension_of_gatherings_order_-_jan_18.pdf \n  \nThis means that as an indoor winter sport the Yellowknife Curling Centre will remain closed an extra week until the health order is lifted. We are hopeful that regular league curling can resume on Monday January 31st. \n  \nWe apologise for the inconvenience and thank you for your patience and understanding.
URL:https://yellowknifecurling.com/event/league-temporarily-suspended/
LOCATION:Yellowknife Curling Club\, 6008 Franklin Ave\, Yellowknife\, Canada
CATEGORIES:Club Closed
END:VEVENT
END:VCALENDAR