BEGIN:VCALENDAR
VERSION:2.0
PRODID:-//Yellowknife Curling Club - ECPv6.15.20//NONSGML v1.0//EN
CALSCALE:GREGORIAN
METHOD:PUBLISH
X-WR-CALNAME:Yellowknife Curling Club
X-ORIGINAL-URL:https://yellowknifecurling.com
X-WR-CALDESC:Events for Yellowknife Curling Club
REFRESH-INTERVAL;VALUE=DURATION:PT1H
X-Robots-Tag:noindex
X-PUBLISHED-TTL:PT1H
BEGIN:VTIMEZONE
TZID:America/Yellowknife
BEGIN:DAYLIGHT
TZOFFSETFROM:-0700
TZOFFSETTO:-0600
TZNAME:MDT
DTSTART:20240310T090000
END:DAYLIGHT
BEGIN:STANDARD
TZOFFSETFROM:-0600
TZOFFSETTO:-0700
TZNAME:MST
DTSTART:20241103T080000
END:STANDARD
BEGIN:DAYLIGHT
TZOFFSETFROM:-0700
TZOFFSETTO:-0600
TZNAME:MDT
DTSTART:20250309T090000
END:DAYLIGHT
BEGIN:STANDARD
TZOFFSETFROM:-0600
TZOFFSETTO:-0700
TZNAME:MST
DTSTART:20251102T080000
END:STANDARD
BEGIN:DAYLIGHT
TZOFFSETFROM:-0700
TZOFFSETTO:-0600
TZNAME:MDT
DTSTART:20260308T090000
END:DAYLIGHT
BEGIN:STANDARD
TZOFFSETFROM:-0600
TZOFFSETTO:-0700
TZNAME:MST
DTSTART:20261101T080000
END:STANDARD
END:VTIMEZONE
BEGIN:VEVENT
DTSTART;VALUE=DATE:20251212
DTEND;VALUE=DATE:20251214
DTSTAMP:20260425T050656
CREATED:20250719T175555Z
LAST-MODIFIED:20251205T173300Z
UID:2819-1765497600-1765670399@yellowknifecurling.com
SUMMARY:NWTCA Master's Championship
DESCRIPTION:
URL:https://yellowknifecurling.com/event/nwtca-masters-championship/
END:VEVENT
BEGIN:VEVENT
DTSTART;TZID=America/Yellowknife:20251212T093000
DTEND;TZID=America/Yellowknife:20251212T170000
DTSTAMP:20260425T050656
CREATED:20250719T175639Z
LAST-MODIFIED:20251205T173516Z
UID:2821-1765531800-1765558800@yellowknifecurling.com
SUMMARY:Assistant Ice Tech Course
DESCRIPTION:
URL:https://yellowknifecurling.com/event/free-assistant-ice-tech-course-with-matt-yeo/
END:VEVENT
END:VCALENDAR