BEGIN:VCALENDAR
VERSION:2.0
PRODID:-//Yellowknife Curling Club - ECPv6.15.20//NONSGML v1.0//EN
CALSCALE:GREGORIAN
METHOD:PUBLISH
X-WR-CALNAME:Yellowknife Curling Club
X-ORIGINAL-URL:http://yellowknifecurling.com
X-WR-CALDESC:Events for Yellowknife Curling Club
REFRESH-INTERVAL;VALUE=DURATION:PT1H
X-Robots-Tag:noindex
X-PUBLISHED-TTL:PT1H
BEGIN:VTIMEZONE
TZID:America/Yellowknife
BEGIN:DAYLIGHT
TZOFFSETFROM:-0700
TZOFFSETTO:-0600
TZNAME:MDT
DTSTART:20200308T090000
END:DAYLIGHT
BEGIN:STANDARD
TZOFFSETFROM:-0600
TZOFFSETTO:-0700
TZNAME:MST
DTSTART:20201101T080000
END:STANDARD
BEGIN:DAYLIGHT
TZOFFSETFROM:-0700
TZOFFSETTO:-0600
TZNAME:MDT
DTSTART:20210314T090000
END:DAYLIGHT
BEGIN:STANDARD
TZOFFSETFROM:-0600
TZOFFSETTO:-0700
TZNAME:MST
DTSTART:20211107T080000
END:STANDARD
BEGIN:DAYLIGHT
TZOFFSETFROM:-0700
TZOFFSETTO:-0600
TZNAME:MDT
DTSTART:20220313T090000
END:DAYLIGHT
BEGIN:STANDARD
TZOFFSETFROM:-0600
TZOFFSETTO:-0700
TZNAME:MST
DTSTART:20221106T080000
END:STANDARD
BEGIN:DAYLIGHT
TZOFFSETFROM:-0700
TZOFFSETTO:-0600
TZNAME:MDT
DTSTART:20230312T090000
END:DAYLIGHT
BEGIN:STANDARD
TZOFFSETFROM:-0600
TZOFFSETTO:-0700
TZNAME:MST
DTSTART:20231105T080000
END:STANDARD
END:VTIMEZONE
BEGIN:VEVENT
DTSTART;TZID=America/Yellowknife:20221222T100000
DTEND;TZID=America/Yellowknife:20221222T130000
DTSTAMP:20260419T081017
CREATED:20221117T221459Z
LAST-MODIFIED:20221117T221459Z
UID:1548-1671703200-1671714000@yellowknifecurling.com
SUMMARY:Private Rental
DESCRIPTION:City of Yellowknife Staff Holiday Event
URL:http://yellowknifecurling.com/event/private-rental-2/
CATEGORIES:Lounge Rental
ORGANIZER;CN="Bridget White":MAILTO:manager@yellowknifecurling.com
END:VEVENT
BEGIN:VEVENT
DTSTART;TZID=America/Yellowknife:20221207T080000
DTEND;TZID=America/Yellowknife:20221211T170000
DTSTAMP:20260419T081017
CREATED:20220725T170637Z
LAST-MODIFIED:20221122T202730Z
UID:1449-1670400000-1670778000@yellowknifecurling.com
SUMMARY:Arctic Winter Games
DESCRIPTION:Brought to you by Sport North. Click the links below to see the schedule. \nAWG Trials Program \nAWG Trials Draw Schedule
URL:http://yellowknifecurling.com/event/arctic-winter-games/
LOCATION:Yellowknife Curling Club\, 6008 Franklin Ave\, Yellowknife\, Canada
CATEGORIES:Special Event
END:VEVENT
BEGIN:VEVENT
DTSTART;TZID=America/Yellowknife:20221203T163000
DTEND;TZID=America/Yellowknife:20221204T020000
DTSTAMP:20260419T081017
CREATED:20221102T150837Z
LAST-MODIFIED:20221102T152056Z
UID:1543-1670085000-1670119200@yellowknifecurling.com
SUMMARY:Private Rental
DESCRIPTION:Lounge rented for private event
URL:http://yellowknifecurling.com/event/private-rental/
LOCATION:Yellowknife Curling Club\, 6008 Franklin Ave\, Yellowknife\, Canada
CATEGORIES:Lounge Rental
ORGANIZER;CN="Bridget White":MAILTO:manager@yellowknifecurling.com
END:VEVENT
BEGIN:VEVENT
DTSTART;TZID=America/Yellowknife:20221203T130000
DTEND;TZID=America/Yellowknife:20221203T150000
DTSTAMP:20260419T081017
CREATED:20221024T173351Z
LAST-MODIFIED:20221026T180729Z
UID:1527-1670072400-1670079600@yellowknifecurling.com
SUMMARY:Get Active Seniors Instruction
DESCRIPTION:The YK Curling Club has received a Get Active grant from Parks & Recreation. We will be holding 3 events to get seniors 55+ involved. \nThe dates for these events are: \nDecember 3rd 1pm 3pm followed by a social & snacks in the lounge– (practice ice will be available to members during this event) \nJanuary 14th 1pm to 3pm followed by a social & snacks in the lounge- (practice ice will be available to members during this event) \nFebruary 25th- full day event starting at 10am Fun-Spiel and Hit-Tap Draw for Curling Day in Canada \nPlease contact Robert for more information: omegamarine@theedge.ca or 867-444-5378
URL:http://yellowknifecurling.com/event/get-active-seniors-instruction/
LOCATION:Yellowknife Curling Club\, 6008 Franklin Ave\, Yellowknife\, Canada
CATEGORIES:Special Event
ORGANIZER;CN="Robert":MAILTO:omegamarine@theedge.ca
END:VEVENT
BEGIN:VEVENT
DTSTART;VALUE=DATE:20221126
DTEND;VALUE=DATE:20221128
DTSTAMP:20260419T081017
CREATED:20220927T192608Z
LAST-MODIFIED:20220927T192608Z
UID:1501-1669420800-1669593599@yellowknifecurling.com
SUMMARY:YKCC High Performance Camp
DESCRIPTION:Tentative
URL:http://yellowknifecurling.com/event/ykcc-high-performance-camp/
LOCATION:Yellowknife Curling Club\, 6008 Franklin Ave\, Yellowknife\, Canada
CATEGORIES:Special Event
END:VEVENT
BEGIN:VEVENT
DTSTART;VALUE=DATE:20221029
DTEND;VALUE=DATE:20221030
DTSTAMP:20260419T081017
CREATED:20221024T213231Z
LAST-MODIFIED:20221024T213231Z
UID:1534-1667001600-1667087999@yellowknifecurling.com
SUMMARY:Welcome Back Bonspiel
DESCRIPTION:Register online www.yellowknifecurling.com \n$100/team and it includes lunch! \nMembers only
URL:http://yellowknifecurling.com/event/welcome-back-bonspiel/
LOCATION:Yellowknife Curling Club\, 6008 Franklin Ave\, Yellowknife\, Canada
END:VEVENT
BEGIN:VEVENT
DTSTART;TZID=America/Yellowknife:20221022T080000
DTEND;TZID=America/Yellowknife:20221023T170000
DTSTAMP:20260419T081017
CREATED:20220831T164420Z
LAST-MODIFIED:20220831T171303Z
UID:1472-1666425600-1666544400@yellowknifecurling.com
SUMMARY:NWTCA Coaching Clinic
DESCRIPTION:
URL:http://yellowknifecurling.com/event/nwtca-coaching-clinic/
LOCATION:Yellowknife Curling Club\, 6008 Franklin Ave\, Yellowknife\, Canada
CATEGORIES:Education
END:VEVENT
BEGIN:VEVENT
DTSTART;TZID=America/Yellowknife:20221011T190000
DTEND;TZID=America/Yellowknife:20221011T210000
DTSTAMP:20260419T081017
CREATED:20220906T185633Z
LAST-MODIFIED:20220906T185633Z
UID:1489-1665514800-1665522000@yellowknifecurling.com
SUMMARY:Tuesday League 7pm
DESCRIPTION:Tuesdays competitive league only has one draw that starts at 7pm.
URL:http://yellowknifecurling.com/event/tuesday-league-7pm/
LOCATION:Yellowknife Curling Club\, 6008 Franklin Ave\, Yellowknife\, Canada
END:VEVENT
BEGIN:VEVENT
DTSTART;VALUE=DATE:20221011
DTEND;VALUE=DATE:20221012
DTSTAMP:20260419T081017
CREATED:20220906T185253Z
LAST-MODIFIED:20220906T185253Z
UID:1486-1665446400-1665532799@yellowknifecurling.com
SUMMARY:Curling Season Begins
DESCRIPTION:The YKCC curling season officially begins!
URL:http://yellowknifecurling.com/event/curling-season-begins/
LOCATION:Yellowknife Curling Club\, 6008 Franklin Ave\, Yellowknife\, Canada
END:VEVENT
BEGIN:VEVENT
DTSTART;VALUE=DATE:20221010
DTEND;VALUE=DATE:20221011
DTSTAMP:20260419T081017
CREATED:20220906T185137Z
LAST-MODIFIED:20220906T185137Z
UID:1483-1665360000-1665446399@yellowknifecurling.com
SUMMARY:Thanksgiving- Club Closed
DESCRIPTION:
URL:http://yellowknifecurling.com/event/thanksgiving-club-closed/
END:VEVENT
BEGIN:VEVENT
DTSTART;TZID=America/Yellowknife:20220929T180000
DTEND;TZID=America/Yellowknife:20220929T200000
DTSTAMP:20260419T081017
CREATED:20220906T184936Z
LAST-MODIFIED:20220906T184936Z
UID:1481-1664474400-1664481600@yellowknifecurling.com
SUMMARY:Registration Open House
DESCRIPTION:6-8pm \nCome get help registering\, meet other curlers looking for a team or catch up with your curling friends. The bar will be closed but the popcorn will be available!
URL:http://yellowknifecurling.com/event/registration-open-house/
END:VEVENT
BEGIN:VEVENT
DTSTART;TZID=America/Yellowknife:20220914T180000
DTEND;TZID=America/Yellowknife:20220914T200000
DTSTAMP:20260419T081017
CREATED:20220805T172202Z
LAST-MODIFIED:20220805T172202Z
UID:1466-1663178400-1663185600@yellowknifecurling.com
SUMMARY:Community Showcase @ The Multiplex
DESCRIPTION:Come out to see what Yellowknife has to offer and stop by our booth from 6pm to 8pm to find out how to register for the coming 2022-2023 curling season!
URL:http://yellowknifecurling.com/event/community-showcase-the-multiplex/
LOCATION:Yellowknife Multiplex\, 41 Kam Lake Rd.\, Yellowknife\, Northwest Territories\, Canada
CATEGORIES:Education
END:VEVENT
BEGIN:VEVENT
DTSTART;VALUE=DATE:20220912
DTEND;VALUE=DATE:20220913
DTSTAMP:20260419T081017
CREATED:20220906T184551Z
LAST-MODIFIED:20220906T184657Z
UID:1479-1662940800-1663027199@yellowknifecurling.com
SUMMARY:Online Registration Opens
DESCRIPTION:9am- registration starts \nCall or email the manager Bridget if you need help or have questions. \nmanager@yellowknifecurling.com \n867-873-4805
URL:http://yellowknifecurling.com/event/online-registration-opens/
END:VEVENT
BEGIN:VEVENT
DTSTART;TZID=America/Yellowknife:20220826T080000
DTEND;TZID=America/Yellowknife:20220828T170000
DTSTAMP:20260419T081017
CREATED:20220803T145812Z
LAST-MODIFIED:20220803T145812Z
UID:1464-1661500800-1661706000@yellowknifecurling.com
SUMMARY:NWTCA Fall Planning Meeting
DESCRIPTION:private rental
URL:http://yellowknifecurling.com/event/nwtca-fall-planning-meeting/
LOCATION:Yellowknife Curling Club\, 6008 Franklin Ave\, Yellowknife\, Canada
CATEGORIES:Lounge Rental
END:VEVENT
BEGIN:VEVENT
DTSTART;TZID=America/Yellowknife:20220725T190000
DTEND;TZID=America/Yellowknife:20220725T200000
DTSTAMP:20260419T081017
CREATED:20220503T195346Z
LAST-MODIFIED:20220503T195346Z
UID:1396-1658775600-1658779200@yellowknifecurling.com
SUMMARY:YKCC AGM
DESCRIPTION:Tentative date
URL:http://yellowknifecurling.com/event/ykcc-agm/
LOCATION:Yellowknife Curling Club\, 6008 Franklin Ave\, Yellowknife\, Canada
CATEGORIES:Board Meeting
ORGANIZER;CN="Bridget White":MAILTO:manager@yellowknifecurling.com
END:VEVENT
BEGIN:VEVENT
DTSTART;TZID=America/Yellowknife:20220723T130000
DTEND;TZID=America/Yellowknife:20220723T170000
DTSTAMP:20260419T081017
CREATED:20220630T200000Z
LAST-MODIFIED:20220701T000204Z
UID:1422-1658581200-1658595600@yellowknifecurling.com
SUMMARY:Lounge Rented
DESCRIPTION:
URL:http://yellowknifecurling.com/event/lounge-rented-3/
LOCATION:Yellowknife Curling Club\, 6008 Franklin Ave\, Yellowknife\, Canada
CATEGORIES:Lounge Rental
ORGANIZER;CN="Bridget White":MAILTO:manager@yellowknifecurling.com
END:VEVENT
BEGIN:VEVENT
DTSTART;TZID=America/Yellowknife:20220605T090000
DTEND;TZID=America/Yellowknife:20220605T170000
DTSTAMP:20260419T081017
CREATED:20220528T191926Z
LAST-MODIFIED:20220528T191926Z
UID:1412-1654419600-1654448400@yellowknifecurling.com
SUMMARY:NWTCA Spring Planning Meeting 9am into the afternoon.
DESCRIPTION:Private Meeting
URL:http://yellowknifecurling.com/event/nwtca-spring-planning-meeting-9am-into-the-afternoon/
LOCATION:Yellowknife Curling Club\, 6008 Franklin Ave\, Yellowknife\, Canada
CATEGORIES:Board Meeting
END:VEVENT
BEGIN:VEVENT
DTSTART;TZID=America/Yellowknife:20220604T170000
DTEND;TZID=America/Yellowknife:20220605T010000
DTSTAMP:20260419T081017
CREATED:20220520T174436Z
LAST-MODIFIED:20220520T174436Z
UID:1406-1654362000-1654390800@yellowknifecurling.com
SUMMARY:Private Lounge Rental
DESCRIPTION:
URL:http://yellowknifecurling.com/event/private-lounge-rental/
CATEGORIES:Lounge Rental
ORGANIZER;CN="Bridget White":MAILTO:manager@yellowknifecurling.com
END:VEVENT
BEGIN:VEVENT
DTSTART;TZID=America/Yellowknife:20220604T090000
DTEND;TZID=America/Yellowknife:20220604T170000
DTSTAMP:20260419T081017
CREATED:20220528T191457Z
LAST-MODIFIED:20220528T191457Z
UID:1410-1654333200-1654362000@yellowknifecurling.com
SUMMARY:NWTCA Spring Planning Meeting 9am to 4pm
DESCRIPTION:Private Meeting
URL:http://yellowknifecurling.com/event/nwtca-spring-planning-meeting-9am-to-4pm/
LOCATION:Yellowknife Curling Club\, 6008 Franklin Ave\, Yellowknife\, Canada
CATEGORIES:Board Meeting
END:VEVENT
BEGIN:VEVENT
DTSTART;TZID=America/Yellowknife:20220603T190000
DTEND;TZID=America/Yellowknife:20220603T200000
DTSTAMP:20260419T081017
CREATED:20220411T203302Z
LAST-MODIFIED:20220411T203302Z
UID:1387-1654282800-1654286400@yellowknifecurling.com
SUMMARY:NWTCA AGM
DESCRIPTION:You can also join through zoom by contacting Trent Dundas at aanwtca@gmail.com \n\nSitting in on the AGM is a great way to find out what is happening at the Territorial level and it can give you an idea of how you might be able to help curling thrive in the NWT. 
URL:http://yellowknifecurling.com/event/nwtca-agm/
LOCATION:Yellowknife Curling Club\, 6008 Franklin Ave\, Yellowknife\, Canada
CATEGORIES:Lounge Rental
END:VEVENT
BEGIN:VEVENT
DTSTART;TZID=America/Yellowknife:20220528T173000
DTEND;TZID=America/Yellowknife:20220528T230000
DTSTAMP:20260419T081017
CREATED:20220529T053000Z
LAST-MODIFIED:20220520T174245Z
UID:1389-1653759000-1653778800@yellowknifecurling.com
SUMMARY:2022 YKCC Year End Banquet
DESCRIPTION:Banquet date:  Saturday May 28th Doors open at 5:30pm and dinner will be served at 6:30pm. *no need to bring proof of purchase\, we will have a guest list \n  \nPrice: $45+GST for the meal and an additional $20+GST to add a lobster tail. \n  \nMenu: Steak with the option to add Lobster tail\, Caesar salad\, rolls\, baked potatoes with all the trimmings for you to load on\, and a variety of dessert squares! Drinks can be purchased at the bar. \n  \nOnly 100 tickets available! We expect to sell out quickly so don’t delay! \n  \nIf you want lobster tail added to your steak meal you need to buy your ticket by Thursday May 12th at 10pm. We will keep ticket sales open until all 100 spots are sold. \n  \nHow to buy tickets: \nTickets will be sold through our registration page on our website www.yellowknifecurling.com. If you have any difficulty buying the tickets please call the club manager Bridget at (867) 873-4805. Our website doesn’t allow you to order multiple tickets by adding a quantity number. Please read through the instructions below to avoid unnecessary frustration\, resulting in the death of your device by violence. \n  \nFollow these steps: \n  \n\nClick on Registration tab\nSign in *must have a curler profile to buy tickets 3. Products tab 4. Add 2022 Year End Banquet to cart 5. Click on information required next to your cart item 6. Add the name of the person you are buying the ticket for in the comment box. Your name if the ticket is for you\, but if the ticket is for someone else such as your spouse or a teammate\, please put their name in the comments box so that we can add their name to the guest list.\nClick on Save & Continue\nClick on continue shopping under the price total if you want to buy more tickets or add lobster to your meal 9. You will be taken back to the Products tab 10. Add Lobster Tail to your cart if you wish and again follow steps 5 & 6- type the name of the person requesting lobster with their meal so that it shows on our guest list.\n\n**Lobster tails are addons to the steak dinner. Please do not order more lobster than dinners purchased. We are not offering lobster only meals\, any food that switches plates at the tables is your business. \n\nRepeat steps 4 to 10 until you have the number of tickets needed for yourself and your guests in your cart 12. Click on the red button labeled Credit/Debit to process your order.\nYou will receive an email confirming your purchase.\nWe will have the names of each person you bought a ticket for on our guest list so there is no need to bring any proof of purchase with you to the Banquet.\n\n  \n**If you have Covid symptoms please do not attend. We will not be issuing refunds for no shows. \n 
URL:http://yellowknifecurling.com/event/2022-ykcc-banquet-tentative-date/
LOCATION:Yellowknife Curling Club\, 6008 Franklin Ave\, Yellowknife\, Canada
CATEGORIES:Lounge Rental
END:VEVENT
BEGIN:VEVENT
DTSTART;TZID=America/Yellowknife:20220528T070000
DTEND;TZID=America/Yellowknife:20220528T130000
DTSTAMP:20260419T081017
CREATED:20220528T190000Z
LAST-MODIFIED:20220322T221947Z
UID:1381-1653721200-1653742800@yellowknifecurling.com
SUMMARY:Walk for Alzheimer's rental
DESCRIPTION:The Alzheimer Society of Alberta & NWT is hosting a walk and BBQ and using the YKCC as a base for the morning.
URL:http://yellowknifecurling.com/event/walk-for-alzheimers-rental/
LOCATION:Yellowknife Curling Club\, 6008 Franklin Ave\, Yellowknife\, Canada
CATEGORIES:Lounge Rental
ORGANIZER;CN="Bridget White":MAILTO:manager@yellowknifecurling.com
END:VEVENT
BEGIN:VEVENT
DTSTART;TZID=America/Yellowknife:20220421T183000
DTEND;TZID=America/Yellowknife:20220421T210000
DTSTAMP:20260419T081017
CREATED:20220322T220323Z
LAST-MODIFIED:20220322T220323Z
UID:1383-1650565800-1650574800@yellowknifecurling.com
SUMMARY:Lounge rented
DESCRIPTION:YK Condo Corp AGM 6:30-9pm
URL:http://yellowknifecurling.com/event/lounge-rented-2/
LOCATION:Yellowknife Curling Club\, 6008 Franklin Ave\, Yellowknife\, Canada
CATEGORIES:Lounge Rental
ORGANIZER;CN="Bridget White":MAILTO:manager@yellowknifecurling.com
END:VEVENT
BEGIN:VEVENT
DTSTART;VALUE=DATE:20220401
DTEND;VALUE=DATE:20220402
DTSTAMP:20260419T081017
CREATED:20220222T194003Z
LAST-MODIFIED:20220222T194003Z
UID:1374-1648771200-1648857599@yellowknifecurling.com
SUMMARY:Last Day of Curling
DESCRIPTION:
URL:http://yellowknifecurling.com/event/last-day-of-curling/
LOCATION:Yellowknife Curling Club\, 6008 Franklin Ave\, Yellowknife\, Canada
CATEGORIES:Education
END:VEVENT
BEGIN:VEVENT
DTSTART;TZID=America/Yellowknife:20211104T190000
DTEND;TZID=America/Yellowknife:20211104T210000
DTSTAMP:20260419T081017
CREATED:20211103T062339Z
LAST-MODIFIED:20211103T062339Z
UID:1103-1636052400-1636059600@yellowknifecurling.com
SUMMARY:Thursday Evening Competitive League
DESCRIPTION:One of our two more competitive leagues – curlers in this league have mastered basic curling fundamentals and focus more on strategy and team development – communication\, sweeping\, etc. Games are typically 8 ends lasting about 2 hours. Although it is a more competitive league\, it is still a fun\, supportive environment. The cost is $1\,200/team. \nThere is only one draw on Thursdays. \nPlease follow the link to see the draw schedule! https://yellowknife.curling.io/en/events/9282-thursday-evening-competitive-league-7pm/draws
URL:http://yellowknifecurling.com/event/thursday-evening-competitive-league/
LOCATION:Yellowknife Curling Club\, 6008 Franklin Ave\, Yellowknife\, Canada
ORGANIZER;CN="Chris Kelln":MAILTO:ck_8423@hotmail.com
END:VEVENT
BEGIN:VEVENT
DTSTART;TZID=America/Yellowknife:20220331T100000
DTEND;TZID=America/Yellowknife:20220331T140000
DTSTAMP:20260419T081017
CREATED:20220331T220000Z
LAST-MODIFIED:20220222T164453Z
UID:1370-1648720800-1648735200@yellowknifecurling.com
SUMMARY:Private Event Lounge Rental
DESCRIPTION:JTFN Wellness Day
URL:http://yellowknifecurling.com/event/privet-event-lounge-rental/
LOCATION:Yellowknife Curling Club\, 6008 Franklin Ave\, Yellowknife\, Canada
CATEGORIES:Ice Rental,Lounge Rental
ORGANIZER;CN="Bridget White":MAILTO:manager@yellowknifecurling.com
END:VEVENT
BEGIN:VEVENT
DTSTART;TZID=America/Yellowknife:20211103T183000
DTEND;TZID=America/Yellowknife:20211103T220000
DTSTAMP:20260419T081017
CREATED:20211103T061419Z
LAST-MODIFIED:20211103T061419Z
UID:1081-1635964200-1635976800@yellowknifecurling.com
SUMMARY:Wednesday Evening Recreational League
DESCRIPTION:This mid-week league with 2 draw times and features recreational teams of all ages and skill levels\, often with more than 4 members and rotating rosters to accommodate busy schedules. Six-end games are played in this casual league that predominantly features novice to intermediate caliber curlers. This league is perfect for a crew from the office who are looking to throw together\, a family team\, or an up-and-coming new junior team. Cost: $1000/team [Jr. Team Cost: $500] \nThere are two draws on Wednesdays; 6:30pm and 8:30pm. \nFor the draw schedule please follow the link! https://yellowknife.curling.io/en/events/9281-wednesday-evening-recreational-league-6-30pm/draws
URL:http://yellowknifecurling.com/event/wednesday-evening-recreational-league/
LOCATION:Yellowknife Curling Club\, 6008 Franklin Ave\, Yellowknife\, Canada
ORGANIZER;CN="Janet Murray":MAILTO:janetmurray2007@gmail.com
END:VEVENT
BEGIN:VEVENT
DTSTART;TZID=America/Yellowknife:20211102T190000
DTEND;TZID=America/Yellowknife:20211102T210000
DTSTAMP:20260419T081017
CREATED:20211103T055712Z
LAST-MODIFIED:20211103T055712Z
UID:1059-1635879600-1635886800@yellowknifecurling.com
SUMMARY:Tuesday Evening Competitive League
DESCRIPTION:One of our two more competitive leagues – curlers in this league have mastered basic curling fundamentals and focus more on strategy and team development – communication\, sweeping\, etc. Games are typically 8 ends lasting about 2 hours. Although it is a more competitive league\, it is still a fun\, supportive environment. Cost is $1\,200/ team \nFollow this link for draw schedule! https://yellowknife.curling.io/en/events/10308-tuesday-evening-competitive-league-7pm/draws
URL:http://yellowknifecurling.com/event/tuesday-evening-competitive-league/
LOCATION:Yellowknife Curling Club\, 6008 Franklin Ave\, Yellowknife\, Canada
ORGANIZER;CN="Sarah Stroeder":MAILTO:sjstroeder@gmail.com
END:VEVENT
BEGIN:VEVENT
DTSTART;TZID=America/Yellowknife:20211108T193000
DTEND;TZID=America/Yellowknife:20211108T203000
DTSTAMP:20260419T081017
CREATED:20211103T051831Z
LAST-MODIFIED:20211103T053007Z
UID:1018-1636399800-1636403400@yellowknifecurling.com
SUMMARY:Open Doubles League
DESCRIPTION:Doubles league is 6 end games of 2-on-2 curling\, and a typical game only takes about an hour to play. There is one draw per Monday night. Doubles curling is still new to many people\, so come join us in learning this new game. Doubles league is a recreational league open to all skill levels and age groups. Cost: $500/ team [Team w one Jr Cost: $375 & Team w two Jr’s Cost: $250] \nClick on the link to see the draw schedules!  https://yellowknife.curling.io/en/events/10309-open-doubles-league-monday-evening/draws
URL:http://yellowknifecurling.com/event/open-doubles-league/
LOCATION:Yellowknife Curling Club\, 6008 Franklin Ave\, Yellowknife\, Canada
CATEGORIES:League
ORGANIZER;CN="Grace Twa":MAILTO:gracetwa@hotmail.com
END:VEVENT
BEGIN:VEVENT
DTSTART;TZID=America/Yellowknife:20211101T133000
DTEND;TZID=America/Yellowknife:20211101T160000
DTSTAMP:20260419T081017
CREATED:20211103T064310Z
LAST-MODIFIED:20211103T064310Z
UID:1148-1635773400-1635782400@yellowknifecurling.com
SUMMARY:Seniors League
DESCRIPTION:A drop-in league for anyone 55+. This afternoon league typically plays 4 – 6 ends of curling before heading upstairs for coffee and some social time. Great way to meet up with friends while getting some exercise! \nIt is only $5 every time you come out for members. \n 
URL:http://yellowknifecurling.com/event/seniors-league/
LOCATION:Yellowknife Curling Club\, 6008 Franklin Ave\, Yellowknife\, Canada
ORGANIZER;CN="Cappy &amp%3B Larry Elkin":MAILTO:elkin@theedge.ca
END:VEVENT
END:VCALENDAR