BEGIN:VCALENDAR
VERSION:2.0
PRODID:-//Yellowknife Curling Club - ECPv6.15.20//NONSGML v1.0//EN
CALSCALE:GREGORIAN
METHOD:PUBLISH
X-WR-CALNAME:Yellowknife Curling Club
X-ORIGINAL-URL:http://yellowknifecurling.com
X-WR-CALDESC:Events for Yellowknife Curling Club
REFRESH-INTERVAL;VALUE=DURATION:PT1H
X-Robots-Tag:noindex
X-PUBLISHED-TTL:PT1H
BEGIN:VTIMEZONE
TZID:America/Yellowknife
BEGIN:DAYLIGHT
TZOFFSETFROM:-0700
TZOFFSETTO:-0600
TZNAME:MDT
DTSTART:20220313T090000
END:DAYLIGHT
BEGIN:STANDARD
TZOFFSETFROM:-0600
TZOFFSETTO:-0700
TZNAME:MST
DTSTART:20221106T080000
END:STANDARD
BEGIN:DAYLIGHT
TZOFFSETFROM:-0700
TZOFFSETTO:-0600
TZNAME:MDT
DTSTART:20230312T090000
END:DAYLIGHT
BEGIN:STANDARD
TZOFFSETFROM:-0600
TZOFFSETTO:-0700
TZNAME:MST
DTSTART:20231105T080000
END:STANDARD
BEGIN:DAYLIGHT
TZOFFSETFROM:-0700
TZOFFSETTO:-0600
TZNAME:MDT
DTSTART:20240310T090000
END:DAYLIGHT
BEGIN:STANDARD
TZOFFSETFROM:-0600
TZOFFSETTO:-0700
TZNAME:MST
DTSTART:20241103T080000
END:STANDARD
END:VTIMEZONE
BEGIN:VEVENT
DTSTART;TZID=America/Yellowknife:20231102T170000
DTEND;TZID=America/Yellowknife:20231102T183000
DTSTAMP:20260420T013736
CREATED:20230925T202100Z
LAST-MODIFIED:20230925T202100Z
UID:1758-1698944400-1698949800@yellowknifecurling.com
SUMMARY:Junior Curling
DESCRIPTION:All ages junior curling from 5:15Pm-6:15PM
URL:http://yellowknifecurling.com/event/junior-curling-6/
END:VEVENT
BEGIN:VEVENT
DTSTART;TZID=America/Yellowknife:20231101T180000
DTEND;TZID=America/Yellowknife:20231101T180000
DTSTAMP:20260420T013736
CREATED:20230925T203108Z
LAST-MODIFIED:20230925T203108Z
UID:1781-1698861600-1698861600@yellowknifecurling.com
SUMMARY:Wednesday League
DESCRIPTION:6:15PM & 8:00PM Games
URL:http://yellowknifecurling.com/event/wednesday-league-3/
END:VEVENT
BEGIN:VEVENT
DTSTART;TZID=America/Yellowknife:20231031T190000
DTEND;TZID=America/Yellowknife:20231031T190000
DTSTAMP:20260420T013736
CREATED:20230925T203658Z
LAST-MODIFIED:20230925T203658Z
UID:1785-1698778800-1698778800@yellowknifecurling.com
SUMMARY:Tuesday League
DESCRIPTION:7PM Games
URL:http://yellowknifecurling.com/event/tuesday-league/
END:VEVENT
BEGIN:VEVENT
DTSTART;TZID=America/Yellowknife:20231030T193000
DTEND;TZID=America/Yellowknife:20231030T213000
DTSTAMP:20260420T013736
CREATED:20230925T185929Z
LAST-MODIFIED:20230925T185929Z
UID:1750-1698694200-1698701400@yellowknifecurling.com
SUMMARY:Doubles League
DESCRIPTION:7:30PM Start
URL:http://yellowknifecurling.com/event/doubles-league/
END:VEVENT
BEGIN:VEVENT
DTSTART;TZID=America/Yellowknife:20231030T170000
DTEND;TZID=America/Yellowknife:20231030T190000
DTSTAMP:20260420T013736
CREATED:20230925T185537Z
LAST-MODIFIED:20230925T185557Z
UID:1740-1698685200-1698692400@yellowknifecurling.com
SUMMARY:Junior Curling
DESCRIPTION:5:15-5:55PM Ages 5-9 \n6:00-7:15PM Ages 10-20
URL:http://yellowknifecurling.com/event/junior-curling/
END:VEVENT
BEGIN:VEVENT
DTSTART;TZID=America/Yellowknife:20231030T133000
DTEND;TZID=America/Yellowknife:20231030T163000
DTSTAMP:20260420T013736
CREATED:20230925T204122Z
LAST-MODIFIED:20230925T204122Z
UID:1797-1698672600-1698683400@yellowknifecurling.com
SUMMARY:Senior Curling
DESCRIPTION:
URL:http://yellowknifecurling.com/event/senior-curling-3/
END:VEVENT
BEGIN:VEVENT
DTSTART;TZID=America/Yellowknife:20231027T190000
DTEND;TZID=America/Yellowknife:20231027T190000
DTSTAMP:20260420T013736
CREATED:20230925T202846Z
LAST-MODIFIED:20230925T202846Z
UID:1772-1698433200-1698433200@yellowknifecurling.com
SUMMARY:Friday League
DESCRIPTION:7:00PM & 8:45PM Games
URL:http://yellowknifecurling.com/event/friday-league-3/
END:VEVENT
BEGIN:VEVENT
DTSTART;TZID=America/Yellowknife:20231026T190000
DTEND;TZID=America/Yellowknife:20231026T210000
DTSTAMP:20260420T013736
CREATED:20230925T202402Z
LAST-MODIFIED:20230925T202402Z
UID:1764-1698346800-1698354000@yellowknifecurling.com
SUMMARY:Thursday League
DESCRIPTION:7PM Games
URL:http://yellowknifecurling.com/event/thursday-league-3/
END:VEVENT
BEGIN:VEVENT
DTSTART;TZID=America/Yellowknife:20231026T170000
DTEND;TZID=America/Yellowknife:20231026T183000
DTSTAMP:20260420T013736
CREATED:20230925T201959Z
LAST-MODIFIED:20230925T201959Z
UID:1756-1698339600-1698345000@yellowknifecurling.com
SUMMARY:Junior Curling
DESCRIPTION:All ages junior curling from 5:15Pm-6:15PM
URL:http://yellowknifecurling.com/event/junior-curling-5/
END:VEVENT
BEGIN:VEVENT
DTSTART;VALUE=DATE:20231026
DTEND;VALUE=DATE:20231030
DTSTAMP:20260420T013736
CREATED:20230803T184007Z
LAST-MODIFIED:20230803T184915Z
UID:1682-1698278400-1698623999@yellowknifecurling.com
SUMMARY:NWTCA Curling Club Championship
DESCRIPTION:
URL:http://yellowknifecurling.com/event/nwtca-curling-club-championship/
LOCATION:Yellowknife Curling Club\, 6008 Franklin Ave\, Yellowknife\, Canada
END:VEVENT
BEGIN:VEVENT
DTSTART;TZID=America/Yellowknife:20231025T180000
DTEND;TZID=America/Yellowknife:20231025T180000
DTSTAMP:20260420T013736
CREATED:20230925T203042Z
LAST-MODIFIED:20230925T203406Z
UID:1779-1698256800-1698256800@yellowknifecurling.com
SUMMARY:Wednesday League
DESCRIPTION:6:15PM & 8:00PM Games
URL:http://yellowknifecurling.com/event/wednesday-league-2/
END:VEVENT
BEGIN:VEVENT
DTSTART;TZID=America/Yellowknife:20231024T190000
DTEND;TZID=America/Yellowknife:20231024T190000
DTSTAMP:20260420T013736
CREATED:20230925T203720Z
LAST-MODIFIED:20230925T203720Z
UID:1787-1698174000-1698174000@yellowknifecurling.com
SUMMARY:Tuesday League
DESCRIPTION:7PM Games
URL:http://yellowknifecurling.com/event/tuesday-league-2/
END:VEVENT
BEGIN:VEVENT
DTSTART;TZID=America/Yellowknife:20231023T193000
DTEND;TZID=America/Yellowknife:20231023T213000
DTSTAMP:20260420T013736
CREATED:20230925T185852Z
LAST-MODIFIED:20230925T190007Z
UID:1748-1698089400-1698096600@yellowknifecurling.com
SUMMARY:Doubles League
DESCRIPTION:7:30PM Start
URL:http://yellowknifecurling.com/event/mixed-doubles-2/
END:VEVENT
BEGIN:VEVENT
DTSTART;TZID=America/Yellowknife:20231023T170000
DTEND;TZID=America/Yellowknife:20231023T190000
DTSTAMP:20260420T013736
CREATED:20230925T185712Z
LAST-MODIFIED:20230925T185712Z
UID:1742-1698080400-1698087600@yellowknifecurling.com
SUMMARY:Junior Curling
DESCRIPTION:5:15-5:55PM Ages 5-9 \n6:00-7:15PM Ages 10-20
URL:http://yellowknifecurling.com/event/junior-curling-2/
END:VEVENT
BEGIN:VEVENT
DTSTART;TZID=America/Yellowknife:20231023T133000
DTEND;TZID=America/Yellowknife:20231023T163000
DTSTAMP:20260420T013736
CREATED:20230925T204054Z
LAST-MODIFIED:20230925T204054Z
UID:1795-1698067800-1698078600@yellowknifecurling.com
SUMMARY:Senior Curling
DESCRIPTION:
URL:http://yellowknifecurling.com/event/senior-curling-2/
END:VEVENT
BEGIN:VEVENT
DTSTART;TZID=America/Yellowknife:20231021T130000
DTEND;TZID=America/Yellowknife:20231021T150000
DTSTAMP:20260420T013736
CREATED:20231009T221402Z
LAST-MODIFIED:20231009T221521Z
UID:1824-1697893200-1697900400@yellowknifecurling.com
SUMMARY:Learn to Curl
DESCRIPTION:1PM-3PM
URL:http://yellowknifecurling.com/event/learn-to-curl-2/
END:VEVENT
BEGIN:VEVENT
DTSTART;TZID=America/Yellowknife:20231020T190000
DTEND;TZID=America/Yellowknife:20231020T190000
DTSTAMP:20260420T013736
CREATED:20230925T202826Z
LAST-MODIFIED:20230925T203336Z
UID:1770-1697828400-1697828400@yellowknifecurling.com
SUMMARY:Friday League
DESCRIPTION:7:00PM & 8:45PM Games
URL:http://yellowknifecurling.com/event/friday-league-2/
END:VEVENT
BEGIN:VEVENT
DTSTART;TZID=America/Yellowknife:20231019T190000
DTEND;TZID=America/Yellowknife:20231019T210000
DTSTAMP:20260420T013736
CREATED:20230925T202330Z
LAST-MODIFIED:20230925T202330Z
UID:1762-1697742000-1697749200@yellowknifecurling.com
SUMMARY:Thursday League
DESCRIPTION:7PM Games
URL:http://yellowknifecurling.com/event/thursday-league-2/
END:VEVENT
BEGIN:VEVENT
DTSTART;TZID=America/Yellowknife:20231019T170000
DTEND;TZID=America/Yellowknife:20231019T183000
DTSTAMP:20260420T013736
CREATED:20230925T201929Z
LAST-MODIFIED:20230925T201929Z
UID:1754-1697734800-1697740200@yellowknifecurling.com
SUMMARY:Junior Curling
DESCRIPTION:All ages junior curling from 5:15Pm-6:15PM
URL:http://yellowknifecurling.com/event/junior-curling-4/
END:VEVENT
BEGIN:VEVENT
DTSTART;TZID=America/Yellowknife:20231018T180000
DTEND;TZID=America/Yellowknife:20231018T180000
DTSTAMP:20260420T013736
CREATED:20230925T203019Z
LAST-MODIFIED:20230925T203019Z
UID:1777-1697652000-1697652000@yellowknifecurling.com
SUMMARY:Wednesday League
DESCRIPTION:6:15PM & 8:00PM Games
URL:http://yellowknifecurling.com/event/wednesday-league/
END:VEVENT
BEGIN:VEVENT
DTSTART;TZID=America/Yellowknife:20231017T190000
DTEND;TZID=America/Yellowknife:20231017T190000
DTSTAMP:20260420T013736
CREATED:20230925T203744Z
LAST-MODIFIED:20230925T203744Z
UID:1789-1697569200-1697569200@yellowknifecurling.com
SUMMARY:Tuesday League
DESCRIPTION:7PM Games
URL:http://yellowknifecurling.com/event/tuesday-league-3/
END:VEVENT
BEGIN:VEVENT
DTSTART;TZID=America/Yellowknife:20231016T193000
DTEND;TZID=America/Yellowknife:20231016T213000
DTSTAMP:20260420T013736
CREATED:20230925T185819Z
LAST-MODIFIED:20230925T190030Z
UID:1746-1697484600-1697491800@yellowknifecurling.com
SUMMARY:Doubles League
DESCRIPTION:7:30PM Start
URL:http://yellowknifecurling.com/event/mixed-doubles/
END:VEVENT
BEGIN:VEVENT
DTSTART;TZID=America/Yellowknife:20231016T170000
DTEND;TZID=America/Yellowknife:20231016T190000
DTSTAMP:20260420T013736
CREATED:20230925T185740Z
LAST-MODIFIED:20230925T185740Z
UID:1744-1697475600-1697482800@yellowknifecurling.com
SUMMARY:Junior Curling
DESCRIPTION:5:15-5:55PM Ages 5-9 \n6:00-7:15PM Ages 10-20
URL:http://yellowknifecurling.com/event/junior-curling-3/
END:VEVENT
BEGIN:VEVENT
DTSTART;TZID=America/Yellowknife:20231016T133000
DTEND;TZID=America/Yellowknife:20231016T163000
DTSTAMP:20260420T013736
CREATED:20230925T204034Z
LAST-MODIFIED:20230925T204034Z
UID:1793-1697463000-1697473800@yellowknifecurling.com
SUMMARY:Senior Curling
DESCRIPTION:
URL:http://yellowknifecurling.com/event/senior-curling/
END:VEVENT
BEGIN:VEVENT
DTSTART;TZID=America/Yellowknife:20231014T090000
DTEND;TZID=America/Yellowknife:20231014T120000
DTSTAMP:20260420T013736
CREATED:20230930T173512Z
LAST-MODIFIED:20230930T173512Z
UID:1813-1697274000-1697284800@yellowknifecurling.com
SUMMARY:POLAR BEAR SWIM CLUB OPEN HOUSE
DESCRIPTION:
URL:http://yellowknifecurling.com/event/polar-bear-swim-club-open-house/
END:VEVENT
BEGIN:VEVENT
DTSTART;TZID=America/Yellowknife:20231013T190000
DTEND;TZID=America/Yellowknife:20231013T190000
DTSTAMP:20260420T013736
CREATED:20230925T202759Z
LAST-MODIFIED:20230925T202759Z
UID:1768-1697223600-1697223600@yellowknifecurling.com
SUMMARY:Friday League
DESCRIPTION:7:00PM & 8:45PM Games
URL:http://yellowknifecurling.com/event/friday-league/
END:VEVENT
BEGIN:VEVENT
DTSTART;TZID=America/Yellowknife:20231012T190000
DTEND;TZID=America/Yellowknife:20231012T210000
DTSTAMP:20260420T013736
CREATED:20230925T202302Z
LAST-MODIFIED:20230925T202302Z
UID:1760-1697137200-1697144400@yellowknifecurling.com
SUMMARY:Thursday League
DESCRIPTION:7PM Games
URL:http://yellowknifecurling.com/event/thursday-league/
END:VEVENT
BEGIN:VEVENT
DTSTART;TZID=America/Yellowknife:20231011T180000
DTEND;TZID=America/Yellowknife:20231011T180000
DTSTAMP:20260420T013736
CREATED:20230925T202911Z
LAST-MODIFIED:20230925T203434Z
UID:1774-1697047200-1697047200@yellowknifecurling.com
SUMMARY:Wednesday League
DESCRIPTION:6:15PM & 8:00PM Games
URL:http://yellowknifecurling.com/event/friday-league-4/
END:VEVENT
BEGIN:VEVENT
DTSTART;TZID=America/Yellowknife:20231010T190000
DTEND;TZID=America/Yellowknife:20231010T190000
DTSTAMP:20260420T013736
CREATED:20230925T203817Z
LAST-MODIFIED:20230925T203817Z
UID:1791-1696964400-1696964400@yellowknifecurling.com
SUMMARY:Tuesday League
DESCRIPTION:7PM Games
URL:http://yellowknifecurling.com/event/tuesday-league-4/
END:VEVENT
BEGIN:VEVENT
DTSTART;TZID=America/Yellowknife:20231007T110000
DTEND;TZID=America/Yellowknife:20231007T140000
DTSTAMP:20260420T013736
CREATED:20230925T184029Z
LAST-MODIFIED:20230925T184029Z
UID:1724-1696676400-1696687200@yellowknifecurling.com
SUMMARY:Learn to Curl
DESCRIPTION:11am-2pm \nLunch included \n$30/person
URL:http://yellowknifecurling.com/event/learn-to-curl/
END:VEVENT
END:VCALENDAR